BEGIN:VCALENDAR
VERSION:2.0
PRODID:-//Alpes Club - ECPv6.15.11//NONSGML v1.0//EN
CALSCALE:GREGORIAN
METHOD:PUBLISH
X-WR-CALNAME:Alpes Club
X-ORIGINAL-URL:https://www.alpesclub.fr
X-WR-CALDESC:Évènements pour Alpes Club
REFRESH-INTERVAL;VALUE=DURATION:PT1H
X-Robots-Tag:noindex
X-PUBLISHED-TTL:PT1H
BEGIN:VTIMEZONE
TZID:Europe/Paris
BEGIN:DAYLIGHT
TZOFFSETFROM:+0100
TZOFFSETTO:+0200
TZNAME:CEST
DTSTART:20230326T010000
END:DAYLIGHT
BEGIN:STANDARD
TZOFFSETFROM:+0200
TZOFFSETTO:+0100
TZNAME:CET
DTSTART:20231029T010000
END:STANDARD
BEGIN:DAYLIGHT
TZOFFSETFROM:+0100
TZOFFSETTO:+0200
TZNAME:CEST
DTSTART:20240331T010000
END:DAYLIGHT
BEGIN:STANDARD
TZOFFSETFROM:+0200
TZOFFSETTO:+0100
TZNAME:CET
DTSTART:20241027T010000
END:STANDARD
BEGIN:DAYLIGHT
TZOFFSETFROM:+0100
TZOFFSETTO:+0200
TZNAME:CEST
DTSTART:20250330T010000
END:DAYLIGHT
BEGIN:STANDARD
TZOFFSETFROM:+0200
TZOFFSETTO:+0100
TZNAME:CET
DTSTART:20251026T010000
END:STANDARD
END:VTIMEZONE
BEGIN:VEVENT
DTSTART;VALUE=DATE:20240801
DTEND;VALUE=DATE:20240802
DTSTAMP:20260425T122858
CREATED:20240717T171214Z
LAST-MODIFIED:20240717T171407Z
UID:4878-1722470400-1722556799@www.alpesclub.fr
SUMMARY:Approvisionnement bois pour le chalet
DESCRIPTION:  \n 
URL:https://www.alpesclub.fr/programme/4878/
LOCATION:Belledonne
END:VEVENT
BEGIN:VEVENT
DTSTART;VALUE=DATE:20240804
DTEND;VALUE=DATE:20240805
DTSTAMP:20260425T122858
CREATED:20240717T165602Z
LAST-MODIFIED:20240807T101236Z
UID:4866-1722729600-1722815999@www.alpesclub.fr
SUMMARY:Les lacs du Doménon
DESCRIPTION:Randonnée pédestre
URL:https://www.alpesclub.fr/programme/randonnee-pedestre/
LOCATION:Belledonne
END:VEVENT
BEGIN:VEVENT
DTSTART;VALUE=DATE:20240811
DTEND;VALUE=DATE:20240813
DTSTAMP:20260425T122858
CREATED:20240717T165730Z
LAST-MODIFIED:20240731T111429Z
UID:4868-1723334400-1723507199@www.alpesclub.fr
SUMMARY:2 jours au chalet du club à Chamrousse
DESCRIPTION:Lundi 12 août : balade nature \n\nRendez vous à 13 Heures au départ du télésiège de la Bérangère\, Chamrousse 1750\nRencontre d’Alexis Carron (Ecologue naturaliste\, garde vert) à 13:30 sur le parking de l’Arselle\n13:30 à 15:30\n\nPrésentation du site de l’Arselle et sensibilisation à la réglementation de l’ENS( explication des règles et de leurs conséquences).\nPrésentation de la faune et de la flore existant sur le site.\nFocus sur le bouquetin des Alpes ( histoire\, réintroduction\, effectif).\n\n\n16 heures: Gouter partagé au chalet de l’Alpes Club (boissons offertes par le club).\n\nVous êtes tous conviés à participer à cette journée en tant qu’accompagnateur ou simple spectateur. \nUne fois nos visiteurs partis\, nous proposons pour les membres de l’Alpes club présents ce jour\,  de partager le repas du soir au chalet. ( 8 € pour l’entrée et le plat principal)
URL:https://www.alpesclub.fr/programme/2-jours-au-chalet-du-club-a-chamrousse/
LOCATION:Belledonne
END:VEVENT
BEGIN:VEVENT
DTSTART;VALUE=DATE:20240825
DTEND;VALUE=DATE:20240826
DTSTAMP:20260425T122858
CREATED:20240830T223434Z
LAST-MODIFIED:20240830T223434Z
UID:4916-1724544000-1724630399@www.alpesclub.fr
SUMMARY:Lac du Rif Bruyant
DESCRIPTION:Randonnée pédestre
URL:https://www.alpesclub.fr/programme/lac-du-rif-bruyant-2/
LOCATION:Écrins
END:VEVENT
END:VCALENDAR